BEGIN:VCALENDAR
VERSION:2.0
PRODID:-//LOCA - ECPv6.15.20//NONSGML v1.0//EN
CALSCALE:GREGORIAN
METHOD:PUBLISH
X-WR-CALNAME:LOCA
X-ORIGINAL-URL:https://www.locaarts.org
X-WR-CALDESC:Events for LOCA
REFRESH-INTERVAL;VALUE=DURATION:PT1H
X-Robots-Tag:noindex
X-PUBLISHED-TTL:PT1H
BEGIN:VTIMEZONE
TZID:America/Los_Angeles
BEGIN:DAYLIGHT
TZOFFSETFROM:-0800
TZOFFSETTO:-0700
TZNAME:PDT
DTSTART:20250309T100000
END:DAYLIGHT
BEGIN:STANDARD
TZOFFSETFROM:-0700
TZOFFSETTO:-0800
TZNAME:PST
DTSTART:20251102T090000
END:STANDARD
BEGIN:DAYLIGHT
TZOFFSETFROM:-0800
TZOFFSETTO:-0700
TZNAME:PDT
DTSTART:20260308T100000
END:DAYLIGHT
BEGIN:STANDARD
TZOFFSETFROM:-0700
TZOFFSETTO:-0800
TZNAME:PST
DTSTART:20261101T090000
END:STANDARD
BEGIN:DAYLIGHT
TZOFFSETFROM:-0800
TZOFFSETTO:-0700
TZNAME:PDT
DTSTART:20270314T100000
END:DAYLIGHT
BEGIN:STANDARD
TZOFFSETFROM:-0700
TZOFFSETTO:-0800
TZNAME:PST
DTSTART:20271107T090000
END:STANDARD
END:VTIMEZONE
BEGIN:VEVENT
DTSTART;TZID=America/Los_Angeles:20260421T094500
DTEND;TZID=America/Los_Angeles:20260421T120000
DTSTAMP:20260421T075855
CREATED:20260323T230330Z
LAST-MODIFIED:20260323T230330Z
UID:7906-1776764700-1776772800@www.locaarts.org
SUMMARY:Colored Pencil Workshop with Elizabeth McGee
DESCRIPTION:Learn to Draw A Gourd \nUsing a blended colored pencil technique\, participants will follow step by step instructions in order to make their own still life drawing of a gourd. Students will be taught about lighting\, transparency\, texture\, and color. \nThis LOCA class is presented at Hortense Miller Garden. \nThis LOCA workshop is supported by a grant from City of Laguna Beach and local lodging establishments. \nTo register please use this link:https://www.hortensemillergarden.org/event-schedule
URL:https://www.locaarts.org/event/colored-pencil-workshop-with-elizabeth-mcgee/
LOCATION:Hortense Miller Garden\, Allview Terrace\, Laguna Beach\, 92651\, United States
CATEGORIES:Art Escapes
ATTACH;FMTTYPE=image/jpeg:https://www.locaarts.org/wp-content/uploads/2026/03/McGhee-HMG-April-2026-e1774115658720.jpg
END:VEVENT
BEGIN:VEVENT
DTSTART;TZID=America/Los_Angeles:20260422T133000
DTEND;TZID=America/Los_Angeles:20260422T160000
DTSTAMP:20260421T075855
CREATED:20260125T200547Z
LAST-MODIFIED:20260125T200547Z
UID:7780-1776864600-1776873600@www.locaarts.org
SUMMARY:Ceramics with Tessa Mansour
DESCRIPTION:Two Week Class – Wednesdays:  April 22 and May 6th 1:30 – 4:00pm \nIn this hands-on ceramics class\, you’ll learn all the essential techniques of handbuilding — including pinch pots\, coils\, slabs\, and how to score and slip. As you practice these foundational skills\, you’ll get to explore your own creativity and bring your ideas to life! I’ll provide some guided project ideas to get you started\, but you’ll also have the freedom to create your own unique pieces. \nOnce your greenware creations are complete\, I’ll take them to my studio to be bisque fired. We will skip a week while your creations are fired. Then you’ll return to paint and decorate your work with colorful glazes. After the final kiln firing\, your finished pieces will be food\, drink\, microwave\, and dishwasher-safe — ready to use or gift! \nThis class is designed to be flexible and creative! Whether you’re shaping clay\, glazing\, or adding the finishing touches with paint\, you can work at your own pace. Everyone is welcome — all ages and experience levels! \nFee: $50 for LOCA members / $100 for non-member \nThis class is held in the Art room of the Laguna Beach Community and Susi Q senior center and is sponsored by a grant from the Festival of Arts Foundation.
URL:https://www.locaarts.org/event/ceramics-with-tessa-mansour-2/
LOCATION:Laguna Beach Community and Susi Q senior center\, 380 Third Street\, Laguna Beach\, CA\, 92651\, United States
CATEGORIES:Art Escapes
ATTACH;FMTTYPE=image/jpeg:https://www.locaarts.org/wp-content/uploads/2026/01/Tessa-Mansour-and-pottery-wheel-scaled-e1769371331187.jpg
END:VEVENT
BEGIN:VEVENT
DTSTART;TZID=America/Los_Angeles:20260424T150000
DTEND;TZID=America/Los_Angeles:20260424T170000
DTSTAMP:20260421T075855
CREATED:20260326T180028Z
LAST-MODIFIED:20260326T180028Z
UID:7926-1777042800-1777050000@www.locaarts.org
SUMMARY:LOCA pop-up studio at Arbor Day
DESCRIPTION:Everyone attending the City of Laguna Beach Arbor Day event is invited to visit the LOCA Arts Education pop up studio. \nUse fallen twigs and discarded corks to create a personal tree painting to take home. \nAll ages invited\, free. \nRead more about Arbor Day: \n→ https://www.lagunabeachcity.net/government/departments/public-works/maintenance/tree-maintenance-and-landscaping \n 
URL:https://www.locaarts.org/event/loca-pop-up-studio-at-arbor-day-3/
LOCATION:Alta Laguna Park\, 3299 Alta Laguna Blvd\, Laguna Beach\, CA\, 92651\, United States
CATEGORIES:Art Escapes
ATTACH;FMTTYPE=image/jpeg:https://www.locaarts.org/wp-content/uploads/2026/03/ArborDay-Apr-24-3-5-AltaLaguna-e1774547982421.jpg
END:VEVENT
BEGIN:VEVENT
DTSTART;TZID=America/Los_Angeles:20260426T093000
DTEND;TZID=America/Los_Angeles:20260426T103000
DTSTAMP:20260421T075855
CREATED:20260408T161638Z
LAST-MODIFIED:20260408T161638Z
UID:7929-1777195800-1777199400@www.locaarts.org
SUMMARY:Mosaic Art Talk and Paint a Sunflower at the South Laguna Community Garden Park
DESCRIPTION:Adults\, teens\, and families are invited! Enjoy this two-part lecture and workshop surrounded by sprouting vegetables\, fruits and flowers. \nPart one is a mural talk with tile artist Mike Tauber. He will share how he designed the 7 mosaic plaques on display\, and how more than 100 citizens each decorated a tile. Attendees will watch as he demonstrates all steps from drawing with a wax pencil\, to painting in wet glazes\, to kiln firing\, to cementing the mosaics. \nPart two is a hands-on workshop with Carole Boller. She will lead everyone in creating a joyful sunflower\, from drawing\, to rendering with watercolor pencils\, to brushing in colorful washes. Everyone takes home finished art. \nAdvance registration is required. \nFEE:  $10 LOCA general members / $20 Non-Members / Under 18 is free with one paid adult. \nLOCA Supporter level members attend for free but must register at loca@locaarts.org. \nFree street parking.~ Capacity 20.
URL:https://www.locaarts.org/event/mosaic-art-talk-and-paint-a-sunflower-at-the-south-laguna-community-garden-park/
LOCATION:South Laguna Community Garden Park\, 31610 South Coast Hwy.\, Laguna Beach\, CA\, 92651\, United States
CATEGORIES:Art Escapes
ATTACH;FMTTYPE=image/jpeg:https://www.locaarts.org/wp-content/uploads/2026/04/AT-AE-Aprl-26-2026-SoLag-Park-e1775592329996.jpg
END:VEVENT
BEGIN:VEVENT
DTSTART;TZID=America/Los_Angeles:20260427T163000
DTEND;TZID=America/Los_Angeles:20260427T173000
DTSTAMP:20260421T075855
CREATED:20260322T182811Z
LAST-MODIFIED:20260331T153331Z
UID:7920-1777307400-1777311000@www.locaarts.org
SUMMARY:Art Escapes ~ Art for Kids at the Laguna Beach Library
DESCRIPTION:Art for Kids at the Laguna Beach Library on select Mondays at 4:30pm \nJanuary 12 through May 18\, 2026 \n  LOCA Arts Education is offering free art workshops for kids at Laguna Beach Public Library. Young children ages 5-up will learn different techniques and enjoy different themes each time. Themes are inspired by science\, nature\, seasonal holidays\, and more. Seating is limited\, no registration required\, check-in at 4:15pm. \nFor information\, phone the Library at (949) 497-1733. 363 Glenneyre. Limited free on-site parking and metered street parking. \nhttps://www.ocpl.org/libraries/laguna-beach \n  \n 
URL:https://www.locaarts.org/event/art-escapes-art-for-kids-at-the-laguna-beach-library-2-2-2-2-2-2-2-2-2-2-2-2-2-2-2-2-2-3-2-2-2-3-2-2-2-2-2-2-2-2-2-2-2-2/
LOCATION:Laguna Beach Library\, 363 Glenneyre Street\, Laguna Beach\, CA\, 92651\, United States
CATEGORIES:Art Escapes
ATTACH;FMTTYPE=image/jpeg:https://www.locaarts.org/wp-content/uploads/2026/01/Art-for-Kids-thru-May-2026-flyer-for-LOCA-e1774203684622.jpg
END:VEVENT
BEGIN:VEVENT
DTSTART;TZID=America/Los_Angeles:20260430T160000
DTEND;TZID=America/Los_Angeles:20260430T180000
DTSTAMP:20260421T075855
CREATED:20260310T224352Z
LAST-MODIFIED:20260311T180540Z
UID:7882-1777564800-1777572000@www.locaarts.org
SUMMARY:LPAPA+LOCA: Painting Demo with Jeff Sewell\, April 30th
DESCRIPTION:“Painting The Golden Hour” in Laguna Beach\n\n\nThursday\, April 30th\, 2026\, 4PM-6PM \nThe Laguna Plein Air Painters Association (LPAPA) in collaboration with Laguna Outreach for Community Arts (LOCA) is delighted to offer a Plein Air Painting Demonstration with LPAPA Signature Artist Jeff Sewell in Laguna Beach\, California\, Thursday\, April 30th at 4:00 pm to 6:00 pm. Followed by a LPAPA Gallery Reception and Tour from 6:00pm-7:30pm \nJeff invites you to join him for this fun and informative plein air painting learning experience as he demonstrates his plein air painting techniques as he paints Laguna Beach’s Iconic Golden Hour. After watching Jeff’s demo\, you are encouraged to paint on your own in beautiful Laguna and practice what you learned. This is a great opportunity to learn from an award-winning LPAPA Signature Artist and meet LPAPA & LOCA members\, and enjoy being outdoors in the Laguna Beach plein air! \nThis painting demo is open to both LPAPA Members and LOCA Members\, as well as Non-Members\, at all experience levels (as well as non-painters!). The Laguna Beach location and details will be provided in the registration confirmation email. \nRegistration Fee:  $40.00 for LPAPA Members and LOCA Members;  $50 for Non-Members\n(advance registration required; limited to 20 registrants) \nTo register\, click the button below (LPAPA Members must login for Member Discount! LOCA Members must have a current LOCA Membership). \nCLICK HERE TO REGISTER \nNeed assistance? Contact LPAPA by phone (949) 376-3635 or by email Bonnie@lpapa.org. \nThis program is one of a 3-part educational series made possible with grant funding through the City of Laguna Beach in support of the art education collaboration with LOCA Arts Education (LOCA) and the Laguna Plein Air Painters Association (LPAPA).
URL:https://www.locaarts.org/event/lpapaloca-painting-demo-with-jeff-sewell-april-30th/
CATEGORIES:Art Escapes
ATTACH;FMTTYPE=image/jpeg:https://www.locaarts.org/wp-content/uploads/2026/03/Sewell-1024x534-1-e1773251379625.jpg
END:VEVENT
BEGIN:VEVENT
DTSTART;TZID=America/Los_Angeles:20260504T163000
DTEND;TZID=America/Los_Angeles:20260504T173000
DTSTAMP:20260421T075855
CREATED:20260322T182904Z
LAST-MODIFIED:20260331T153237Z
UID:7921-1777912200-1777915800@www.locaarts.org
SUMMARY:Art Escapes ~ Art for Kids at the Laguna Beach Library
DESCRIPTION:Art for Kids at the Laguna Beach Library on select Mondays at 4:30pm \nJanuary 12 through May 18\, 2026 \n  LOCA Arts Education is offering free art workshops for kids at Laguna Beach Public Library. Young children ages 5-up will learn different techniques and enjoy different themes each time. Themes are inspired by science\, nature\, seasonal holidays\, and more. Seating is limited\, no registration required\, check-in at 4:15pm. \nFor information\, phone the Library at (949) 497-1733. 363 Glenneyre. Limited free on-site parking and metered street parking. \nhttps://www.ocpl.org/libraries/laguna-beach \n  \n 
URL:https://www.locaarts.org/event/art-escapes-art-for-kids-at-the-laguna-beach-library-2-2-2-2-2-2-2-2-2-2-2-2-2-2-2-2-2-3-2-2-2-3-2-2-2-2-2-2-2-2-2-2-2-2-2/
LOCATION:Laguna Beach Library\, 363 Glenneyre Street\, Laguna Beach\, CA\, 92651\, United States
CATEGORIES:Art Escapes
ATTACH;FMTTYPE=image/jpeg:https://www.locaarts.org/wp-content/uploads/2026/01/Art-for-Kids-thru-May-2026-flyer-for-LOCA-e1774203684622.jpg
END:VEVENT
BEGIN:VEVENT
DTSTART;TZID=America/Los_Angeles:20260506T133000
DTEND;TZID=America/Los_Angeles:20260506T160000
DTSTAMP:20260421T075855
CREATED:20260125T200433Z
LAST-MODIFIED:20260125T200433Z
UID:7841-1778074200-1778083200@www.locaarts.org
SUMMARY:Ceramics with Tessa Mansour
DESCRIPTION:Two Week Class – Wednesdays:  April 22 and May 6th 1:30 – 4:00pm \nIn this hands-on ceramics class\, you’ll learn all the essential techniques of handbuilding — including pinch pots\, coils\, slabs\, and how to score and slip. As you practice these foundational skills\, you’ll get to explore your own creativity and bring your ideas to life! I’ll provide some guided project ideas to get you started\, but you’ll also have the freedom to create your own unique pieces. \nOnce your greenware creations are complete\, I’ll take them to my studio to be bisque fired. We will skip a week while your creations are fired. Then you’ll return to paint and decorate your work with colorful glazes. After the final kiln firing\, your finished pieces will be food\, drink\, microwave\, and dishwasher-safe — ready to use or gift! \nThis class is designed to be flexible and creative! Whether you’re shaping clay\, glazing\, or adding the finishing touches with paint\, you can work at your own pace. Everyone is welcome — all ages and experience levels! \nFee: $50 for LOCA members / $100 for non-member \nThis class is held in the Art room of the Laguna Beach Community and Susi Q senior center and is sponsored by a grant from the Festival of Arts Foundation.
URL:https://www.locaarts.org/event/ceramics-with-tessa-mansour/
LOCATION:Laguna Beach Community and Susi Q senior center\, 380 Third Street\, Laguna Beach\, CA\, 92651\, United States
CATEGORIES:Art Escapes
ATTACH;FMTTYPE=image/jpeg:https://www.locaarts.org/wp-content/uploads/2025/12/Tessas-potery-blue-pieces-scaled-e1769371443681.jpg
END:VEVENT
BEGIN:VEVENT
DTSTART;TZID=America/Los_Angeles:20260509T140000
DTEND;TZID=America/Los_Angeles:20260509T150000
DTSTAMP:20260421T075855
CREATED:20260104T232417Z
LAST-MODIFIED:20260104T232417Z
UID:7801-1778335200-1778338800@www.locaarts.org
SUMMARY:Family Art Experience
DESCRIPTION:Families will create art together. Each month a new art project will be introduced and everyone will have fun creating their own unique art piece. All materials are included. \nFree~ No registration required\, please gather at 1:45pm
URL:https://www.locaarts.org/event/family-art-experience-4-2-2-2-2-2-2-2-2/
LOCATION:Laguna Beach Library\, 363 Glenneyre Street\, Laguna Beach\, CA\, 92651\, United States
CATEGORIES:Art Escapes
ATTACH;FMTTYPE=application/pdf:https://www.locaarts.org/wp-content/uploads/2025/10/Family-Art-Saturdays.fall-2025-spring-2026.pdf
END:VEVENT
BEGIN:VEVENT
DTSTART;TZID=America/Los_Angeles:20260511T163000
DTEND;TZID=America/Los_Angeles:20260511T173000
DTSTAMP:20260421T075855
CREATED:20260322T182955Z
LAST-MODIFIED:20260331T153119Z
UID:7922-1778517000-1778520600@www.locaarts.org
SUMMARY:Art Escapes ~ Art for Kids at the Laguna Beach Library
DESCRIPTION:Art for Kids at the Laguna Beach Library on select Mondays at 4:30pm \nJanuary 12 through May 18\, 2026 \n  LOCA Arts Education is offering free art workshops for kids at Laguna Beach Public Library. Young children ages 5-up will learn different techniques and enjoy different themes each time. Themes are inspired by science\, nature\, seasonal holidays\, and more. Seating is limited\, no registration required\, check-in at 4:15pm. \nFor information\, phone the Library at (949) 497-1733. 363 Glenneyre. Limited free on-site parking and metered street parking. \nhttps://www.ocpl.org/libraries/laguna-beach \n  \n 
URL:https://www.locaarts.org/event/art-escapes-art-for-kids-at-the-laguna-beach-library-2-2-2-2-2-2-2-2-2-2-2-2-2-2-2-2-2-3-2-2-2-3-2-2-2-2-2-2-2-2-2-2-2-2-2-2/
LOCATION:Laguna Beach Library\, 363 Glenneyre Street\, Laguna Beach\, CA\, 92651\, United States
CATEGORIES:Art Escapes
ATTACH;FMTTYPE=image/jpeg:https://www.locaarts.org/wp-content/uploads/2026/01/Art-for-Kids-thru-May-2026-flyer-for-LOCA-e1774203684622.jpg
END:VEVENT
BEGIN:VEVENT
DTSTART;TZID=America/Los_Angeles:20260512T094500
DTEND;TZID=America/Los_Angeles:20260512T120000
DTSTAMP:20260421T075855
CREATED:20260418T232038Z
LAST-MODIFIED:20260418T232038Z
UID:7909-1778579100-1778587200@www.locaarts.org
SUMMARY:Colored Pencil Workshop with Elizabeth McGhee
DESCRIPTION:Learn to Sketch a Seascape. Using a blended colored pencil technique\, participants will follow step-by-step instructions to create their own seascape sketch. This technique is a quick and tidy way to sketch on the go. \nThis LOCA class is presented at Hortense Miller Garden. \nThis LOCA workshop is supported by a grant from City of Laguna Beach and local lodging establishments. \nTo register please use this link:https://www.hortensemillergarden.org/event-schedule \n 
URL:https://www.locaarts.org/event/colored-pencil-workshop-with-elizabeth-mcghee/
LOCATION:Hortense Miller Garden\, Allview Terrace\, Laguna Beach\, 92651\, United States
CATEGORIES:Art Escapes
ATTACH;FMTTYPE=image/jpeg:https://www.locaarts.org/wp-content/uploads/2026/03/McGhee-HMG-May-2026-Seascape-e1774116420639.jpg
END:VEVENT
BEGIN:VEVENT
DTSTART;TZID=America/Los_Angeles:20260513T133000
DTEND;TZID=America/Los_Angeles:20260513T163000
DTSTAMP:20260421T075855
CREATED:20260107T033136Z
LAST-MODIFIED:20260107T033136Z
UID:7781-1778679000-1778689800@www.locaarts.org
SUMMARY:Pan Pastels with Lesli Bonanni
DESCRIPTION:One day class on Wednesday: May 13\, 2026  from 1:30 – 4:30pm \nIn this pastel class\, we will be using Pan Pastels and various other unique tools to create ethereal\, minimalist landscapes or seascapes. For inspiration\, bring a photo of your favorite destination\, choose from photos provided by the teacher\, or simply bring your imagination and work intuitively from memory! \nTEACHER: Lesli Bonanni \nFEE: $25 for LOCA members / $50 for non-member \nThis class is held in the Art room of the Laguna Beach Community and Susi Q senior center and is sponsored by a grant from the Festival of Arts Foundation.
URL:https://www.locaarts.org/event/pan-pastels-with-lesli-bonanni-2/
LOCATION:Laguna Beach Community and Susi Q senior center\, 380 Third Street\, Laguna Beach\, CA\, 92651\, United States
CATEGORIES:Art Escapes
END:VEVENT
BEGIN:VEVENT
DTSTART;TZID=America/Los_Angeles:20260518T163000
DTEND;TZID=America/Los_Angeles:20260518T173000
DTSTAMP:20260421T075855
CREATED:20260322T183638Z
LAST-MODIFIED:20260331T153047Z
UID:7923-1779121800-1779125400@www.locaarts.org
SUMMARY:Art Escapes ~ Art for Kids at the Laguna Beach Library
DESCRIPTION:Art for Kids at the Laguna Beach Library on select Mondays at 4:30pm \nJanuary 12 through May 18\, 2026 \n  LOCA Arts Education is offering free art workshops for kids at Laguna Beach Public Library. Young children ages 5-up will learn different techniques and enjoy different themes each time. Themes are inspired by science\, nature\, seasonal holidays\, and more. Seating is limited\, no registration required\, check-in at 4:15pm. \nFor information\, phone the Library at (949) 497-1733. 363 Glenneyre. Limited free on-site parking and metered street parking. \nhttps://www.ocpl.org/libraries/laguna-beach \n  \n 
URL:https://www.locaarts.org/event/art-escapes-art-for-kids-at-the-laguna-beach-library-2-2-2-2-2-2-2-2-2-2-2-2-2-2-2-2-2-3-2-2-2-3-2-2-2-2-2-2-2-2-2-2-2-2-2-2-2/
LOCATION:Laguna Beach Library\, 363 Glenneyre Street\, Laguna Beach\, CA\, 92651\, United States
CATEGORIES:Art Escapes
ATTACH;FMTTYPE=image/jpeg:https://www.locaarts.org/wp-content/uploads/2026/01/Art-for-Kids-thru-May-2026-flyer-for-LOCA-e1774203684622.jpg
END:VEVENT
BEGIN:VEVENT
DTSTART;TZID=America/Los_Angeles:20260520T133000
DTEND;TZID=America/Los_Angeles:20260520T163000
DTSTAMP:20260421T075855
CREATED:20260107T033600Z
LAST-MODIFIED:20260107T033600Z
UID:7782-1779283800-1779294600@www.locaarts.org
SUMMARY:Art off the Grit with Lesli Bonanni
DESCRIPTION:One day class on Wednesday: May 20\, 2026  from 1:30 – 4:30pm \nDiscover a fresh new approach to painting! Working with textured paper\, water\, pigments and tools\, you will create outcomes that surprise and delight you.  Bring an open mind and get ready for a unique experience. \nTEACHER: Lesli Bonanni  \nFEE: $25 for LOCA members / $50 for non-member \nThis class is held in the art room of the Susi Q senior center and made possible by a grant from the FAO Foundation.
URL:https://www.locaarts.org/event/art-off-the-grit-with-lesli-bonanni/
LOCATION:Laguna Beach Community and Susi Q senior center\, 380 Third Street\, Laguna Beach\, CA\, 92651\, United States
CATEGORIES:Art Escapes
END:VEVENT
BEGIN:VEVENT
DTSTART;TZID=America/Los_Angeles:20260624T133000
DTEND;TZID=America/Los_Angeles:20260624T163000
DTSTAMP:20260421T075855
CREATED:20260317T054307Z
LAST-MODIFIED:20260317T054307Z
UID:7899-1782307800-1782318600@www.locaarts.org
SUMMARY:Alcohol Inks with Joy Vansell
DESCRIPTION:One Day Workshop: Wednesday\, June 24\, 2026 from 1:30 to 4:30pm \nJoin Joy for Alcohol Inks \nAlcohol inks are brightly colored dye based paints that are most often used in creating free flowing textures. They are fluid and can be hard to control but if you let go of some of the control and immerse yourself in the experience of creating\, then creating with alcohol inks can be a very therapeutic experience.\n~Joy Vansell \nThis is a one day class held in the Art Room of the Laguna Beach Community and Susi Q senior center. \nFee: $25 for LOCA members / $50 for non-members \nMade possible by a grant from the FOA Foundation. \n  \n 
URL:https://www.locaarts.org/event/alcohol-inks-with-joy-vansell-5-2/
LOCATION:Laguna Beach Community and Susi Q senior center\, 380 Third Street\, Laguna Beach\, CA\, 92651\, United States
CATEGORIES:Art Escapes
ATTACH;FMTTYPE=image/jpeg:https://www.locaarts.org/wp-content/uploads/2021/08/alcohol-ink-3-e1628181967749.jpeg
END:VEVENT
END:VCALENDAR